BEGIN:VCALENDAR
VERSION:2.0
PRODID:-//wp-events-plugin.com//7.2.3.1//EN
TZID:Europe/Berlin
X-WR-TIMEZONE:Europe/Berlin
BEGIN:VEVENT
UID:212@kunstundkulturkreis.de
DTSTART;TZID=Europe/Berlin:20230305T113000
DTEND;TZID=Europe/Berlin:20230402T143000
DTSTAMP:20221206T055529Z
URL:https://kunstundkulturkreis.de/events/zystem-sufall/
SUMMARY:Zystem Sufall
DESCRIPTION:Zystem Sufall\nMelanie Weindl und Bodo Nolte - Objekte &amp\; U
 nsinn\n\nAusstellung: Scheune Leiber\, Damme\nVernissage: Sonntag\, 05. M
 ärz\nBeginn: 11.30 Uhr\nAusstellung: Sonntag\, 05. März - Sonntag\, 02. 
 April\nÖffnungszeiten: Mi. 16.00 bis 18.30 Uhr\,\nSa. und So. 14.00 bis 1
 8.00 Uhr\nEintritt: frei\n\nMelanie Weindl und Bodo Nolte - Objekte &amp\;
  Unsinn\n\nImmer wenn Bodo Nolte vergisst\, sein Zimmer aufzuräumen oder 
 sich sogar weigert\, dann muss er zur Strafe in den Keller und ein Bild ma
 len. Die dabei entstandenen\nBilderserien haben es wirklich verdient\, end
 lich auch in Damme ausgestellt zu werden.\n\nSie sind sehr schön geworden
  und regen den Betrachter an\, auch mal was anderes zu machen als immer nu
 r fernzusehen.\n\nIch bin Melanie Weindl\, dipl. Kommunikationsdesignerin 
 und freie Objektkünstlerin.Ich beschäftige mich mit dem Thema Material-
 Ästhetik seit fast 20 Jahren.\n\nMeine Werke sind abstrakte Materialcolla
 gen und basieren auf das Grundmaterial „Leim“\, dass ich mit weiteren 
 Materialkomponenten z.B. Schellack\, Kaltharz\, Tusche\, Lackfarbe\, Spray
 lack mit einer eigenen entwickelten Methodik zusammenfüge. Der experiment
 elle Umgang mit den Material – seinen Oberflächen\, Strukturen\, Farbge
 bungen und Transparenzen – bietet ein endlos schöpferisches Potential m
 ich kreativ auszudrücken und gleichzeitig meine Kunstform im Schaffenspro
 zess weiterzuentwicklen.\n\nZum einem gibt es Objektarbeiten mit Bildoberf
 lächen\, die abstrakt modern geprägt sind und von Hochglanz-Glasureffekt
 en bis zu einer seidig-stumpf organischen Struktur variieren. Andere Objek
 tarbeiten sind wiederum mit einer Rasteroptik versehen\, die durch manuell
 es Anordnen von Formelementen strukturiert und gleichzeitig elastisch und 
 beweglich wirken.Alle Objektarbeiten Arbeiten sind in einem quadratischem 
 Format angelegt.\n\nJedes Werk ist ein Unikat.
CATEGORIES:Ausstellung
LOCATION:Scheune Leiber\, Mühlenstraße 12a\, Damme\, 49401\, Stadtzentrum
 \, Deutschland
GEO:52.52190330000001;8.195514799999955
X-APPLE-STRUCTURED-LOCATION;VALUE=URI;X-ADDRESS=Mühlenstraße 12a\, Damme\
 , 49401\, Stadtzentrum\, Deutschland;X-APPLE-RADIUS=100;X-TITLE=Scheune Le
 iber:geo:52.52190330000001,8.195514799999955
END:VEVENT
BEGIN:VTIMEZONE
TZID:Europe/Berlin
X-LIC-LOCATION:Europe/Berlin
BEGIN:STANDARD
DTSTART:20221030T020000
TZOFFSETFROM:+0200
TZOFFSETTO:+0100
TZNAME:CET
END:STANDARD
BEGIN:DAYLIGHT
DTSTART:20230326T030000
TZOFFSETFROM:+0100
TZOFFSETTO:+0200
TZNAME:CEST
END:DAYLIGHT
END:VTIMEZONE
END:VCALENDAR