BEGIN:VCALENDAR
VERSION:2.0
PRODID:-//wp-events-plugin.com//7.2.3.1//EN
TZID:Europe/Berlin
X-WR-TIMEZONE:Europe/Berlin
BEGIN:VEVENT
UID:118@kunstundkulturkreis.de
DTSTART;TZID=Europe/Berlin;VALUE=DATE:20170520
DTEND;TZID=Europe/Berlin;VALUE=DATE:20170522
DTSTAMP:20170101T211049Z
URL:https://kunstundkulturkreis.de/events/wir-auf-der-messe/
SUMMARY:Wir auf der Messe
DESCRIPTION:Attraktionen\, Gespräche\, Informationen\, Kontakte: \nDer Kun
 st+Kultur-Kreis Damme e. V. präsentiert sich\nauf der Messe Damme 2017.\n
 Zeitnah mehr Informationen in der Tagespresse\, per Newsletter sowie hier 
 in unserem Blog.\n
ATTACH;FMTTYPE=image/jpeg:https://kunstundkulturkreis.de/wp-content/upload
 s/2017/01/messe-damme-400.jpg
CATEGORIES:Ausstellung
LOCATION:Flugplatz Damme\, Am Flugplatz 8\, Damme\, 49401\, Deutschland
X-APPLE-STRUCTURED-LOCATION;VALUE=URI;X-ADDRESS=Am Flugplatz 8\, Damme\, 49
 401\, Deutschland;X-APPLE-RADIUS=100;X-TITLE=Flugplatz Damme:geo:0,0
END:VEVENT
BEGIN:VTIMEZONE
TZID:Europe/Berlin
X-LIC-LOCATION:Europe/Berlin
BEGIN:DAYLIGHT
DTSTART:20170326T030000
TZOFFSETFROM:+0100
TZOFFSETTO:+0200
TZNAME:CEST
END:DAYLIGHT
END:VTIMEZONE
END:VCALENDAR