BEGIN:VCALENDAR
VERSION:2.0
PRODID:-//wp-events-plugin.com//7.2.3.1//EN
TZID:Europe/Berlin
X-WR-TIMEZONE:Europe/Berlin
BEGIN:VEVENT
UID:252@kunstundkulturkreis.de
DTSTART;TZID=Europe/Berlin:20241122T193000
DTEND;TZID=Europe/Berlin:20241122T220000
DTSTAMP:20240606T051529Z
URL:https://kunstundkulturkreis.de/events/sozusagen-grundlos-vergnuegt/
SUMMARY:Sozusagen grundlos vergnügt
DESCRIPTION:Sozusagen grundlos vergnügt\nAlix Dudel liest Lyrik von Mascha
  Kaléko\n\nBuchvorstellung: Rathaus\, Mühlenstraße 18\, Damme\nTermin: 
 Freitag\, 22. Nov.\nEinlass: 18.30 Uhr\nBeginn: 19.30 Uhr\nEintritt: Mitgl
 ieder 10 €\, Nichtmitglieder 17 €\nVorverkauf: Buchhandlung im Alten R
 athaus und Öffentliche Bücherei St. Viktor ab dem 15. September\n\nIm Be
 rlin der Goldenen Zwanziger Jahre wächst sie auf: Mascha Kaléko\, eine D
 ichterin mit Herz\, Verstand und Augenzwinkern. Sie findet Worte\, die uns
 er Leben und Fühlen berührend und tröstend zugleich beschreiben. Sie lo
 tet die Tiefen und Untiefen unserer Seele aus\, immer ist eine Prise Humor
  dabei\, niemals wird sie sentimental.\nAlix Dudel ist eine einzigartige I
 nterpretin der Texte Kalékos. Auf der Gitarre einfühlsam begleitend und 
 mit brillanten Solostücken wunderbar präsent:\n\nDie jüdische Dichterin
  Mascha Kaléko (1907 – 1975) erlebte in den letzten Jahren eine Renaiss
 ance. Und das zu Recht. Mit ihren Gedichten\, die so leicht verständlich 
 und verspielt daher kommen\, berührt sie die Seele der Menschen. Melancho
 lie ist ein flüchtiger Zustand\, für jede noch so missliche Lebenslage h
 at sie ein aufmunterndes Wort\, ihre Kinderverse sind ein wunderbarer Spa
 ß.\n\nAlix Dudel\, die Diseuse mit der wunderbar tiefen Stimme\, präsent
 iert ihre Auswahl an Gedichten\, die Herbert Baumann (in den 1950er Jahren
  war er musikalischer Leiter am Deutschen Theater in Berlin) einfühlsam v
 ertont hat. Sebastian Albert\, der Gitarrist an ihrer Seite\, unterstützt
  die Lyrik auf eigene Weise und ergänzt den Abend mit Solo-Stücken von M
 ario Castelnuovo-Tedesco und Heitor Villa-Lobos.\n\n&nbsp\;\n\n&nbsp\;\n\n
 &nbsp\;
CATEGORIES:Literatur
LOCATION:Rathaus Damme\, Mühlenstraße 18\, 49401 Damme\, Deutschland
GEO:52.52244;8.195609999999988
X-APPLE-STRUCTURED-LOCATION;VALUE=URI;X-ADDRESS=Mühlenstraße 18\, 49401 D
 amme\, Deutschland;X-APPLE-RADIUS=100;X-TITLE=Rathaus Damme:geo:52.52244,8
 .195609999999988
END:VEVENT
BEGIN:VTIMEZONE
TZID:Europe/Berlin
X-LIC-LOCATION:Europe/Berlin
BEGIN:STANDARD
DTSTART:20241027T020000
TZOFFSETFROM:+0200
TZOFFSETTO:+0100
TZNAME:CET
END:STANDARD
END:VTIMEZONE
END:VCALENDAR