BEGIN:VCALENDAR
VERSION:2.0
PRODID:-//wp-events-plugin.com//7.2.3.1//EN
TZID:Europe/Berlin
X-WR-TIMEZONE:Europe/Berlin
BEGIN:VEVENT
UID:193@kunstundkulturkreis.de
DTSTART;TZID=Europe/Berlin:20211125T193000
DTEND;TZID=Europe/Berlin:20211125T213000
DTSTAMP:20211008T044605Z
URL:https://kunstundkulturkreis.de/events/sehnsucht-nach-leben-wolfgang-bo
 rchert-1921-1947-leben-und-werk/
SUMMARY:Sehnsucht nach Leben Wolfgang Borchert  (1921 – 1947) – Leben u
 nd Werk
DESCRIPTION:Eine biografische Lesung von Mathias Remling\nLesung: Evangelis
 che Kirche „Zum guten Hirten“\, Schützenstraße 4\, Damme\n\nTermin: 
 Donnerstag\, 25. Nov.\nEinlass: 18.45 Uhr\nBeginn: 19.30 Uhr\nEintritt: Mi
 tglieder 5 €\, Nichtmitglieder 10 €\n\n2G-Veranstaltung: Zugang zur Ve
 ranstaltung ist für Geimpfte oder Genesene.\n\nVorverkauf: Buchhandlung i
 m Alten Rathaus\, Öffentliche Bücherei St. Viktor\, ab dem 1. November\n
 \nVor genau einhundert Jahren\, am 20. Mai 1921\, wurde der Autor Wolfgang
  Borchert in Hamburg geboren. Er wurde nur 26 Jahre alt und starb an den F
 olgen des Krieges am 20. November 1947 in Basel\, einen Tag bevor in seine
 r Heimatstadt an den Hamburger Kammerspielen sein Theaterstück „Drauße
 n vor der Tür“ uraufgeführt wurde. Die Inszenierung mit Hans Quest in 
 der Hauptrolle als Kriegsheimkehrer Beckmann und nicht zuletzt die Hörspi
 elfassung\, die vom damaligen NWDR bereits im Februar 1947 gesendet wurde\
 , machten Borchert über Nacht berühmt. Er wurde zu einem der bekannteste
 n Autoren der deutschen Nachkriegsliteratur. Neben seinem bekanntesten Wer
 k hinterließ er eine Sammlung von Gedichten\, zahlreiche Kurzgeschichten 
 und weitere\, wenig bekannte Theaterstücke.\n\nAnlässlich seines 100. Ge
 burtstages lädt der Kunst- und Kultur- Kreis Damme zu einer biografischen
  Lesung seiner Werke ein. Mathias Remling liest Gedichte\, Briefe und Kurz
 geschichten von Wolfgang Borchert und verknüpft diese mit Erzählungen au
 s seinem Leben zu einem literarischen Gesamteindruck vom Leben und Werk de
 s jungen Autors.\n\n&nbsp\;\n\n&nbsp\;\n\n&nbsp\;\n\n&nbsp\;\n\n&nbsp\;\n\
 n&nbsp\;\n\n&nbsp\;\n\n&nbsp\;
CATEGORIES:Literatur
LOCATION:Evangelische Kirche „Zum guten Hirten“\, Schützenstraße 4\, 
 Damme\, Niedersachsen\, 49401\, Deutschland
GEO:52.523508;8.185888
X-APPLE-STRUCTURED-LOCATION;VALUE=URI;X-ADDRESS=Schützenstraße 4\, Damme\
 , Niedersachsen\, 49401\, Deutschland;X-APPLE-RADIUS=100;X-TITLE=Evangelis
 che Kirche „Zum guten Hirten“:geo:52.523508,8.185888
END:VEVENT
BEGIN:VTIMEZONE
TZID:Europe/Berlin
X-LIC-LOCATION:Europe/Berlin
BEGIN:STANDARD
DTSTART:20211031T020000
TZOFFSETFROM:+0200
TZOFFSETTO:+0100
TZNAME:CET
END:STANDARD
END:VTIMEZONE
END:VCALENDAR