BEGIN:VCALENDAR
VERSION:2.0
PRODID:-//wp-events-plugin.com//7.2.3.1//EN
TZID:Europe/Berlin
X-WR-TIMEZONE:Europe/Berlin
BEGIN:VEVENT
UID:217@kunstundkulturkreis.de
DTSTART;TZID=Europe/Berlin:20230514T113000
DTEND;TZID=Europe/Berlin:20230611T143000
DTSTAMP:20221206T055648Z
URL:https://kunstundkulturkreis.de/events/r-a-i-n-helmut-helmes/
SUMMARY:R A I N : Helmut Helmes
DESCRIPTION:R A I N : Helmut Helmes\nAusstellung: Scheune Leiber\, Damme\nV
 ernissage: Sonntag\, 14. Mai\nBeginn: 11.30 Uhr\nAusstellung: Sonntag\, 14
 . Mai - Sonntag\, 11. Juni\nÖffnungszeiten: Mi. 16.00 bis 18.30 Uhr\, Sa.
  und So. 14.00 bis 18.00 Uhr\nEintritt: frei\n\nDürer hatte das Ziel\, de
 r Darstellung der Natur möglichst nahe zu kommen\, denn das war damals da
 s „Neue“. Helmut Helmes bringt in seinen Bildern auch seine Empfindung
 en zum Ausdruck. Sein Pinselzug\, sein pastöser Auftrag gewinnen immer me
 hr an Selbstständigkeit und distanziert sich zur fotografischen Vorgabe. 
 Ein unabhängiges Bild entsteht im Verlauf des intensiven malerischen Proz
 esses\, sobald Helmut Helmes die ganz subjektiv empfundene Qualität seine
 r Malerei gegenüber dem fotografischen Abbild wahrnimmt.\n\nEinführung i
 n die Ausstellung: Dr. Rainer Beßling / Kulturjournalist
CATEGORIES:Ausstellung
LOCATION:Scheune Leiber\, Mühlenstraße 12a\, Damme\, 49401\, Stadtzentrum
 \, Deutschland
GEO:52.52190330000001;8.195514799999955
X-APPLE-STRUCTURED-LOCATION;VALUE=URI;X-ADDRESS=Mühlenstraße 12a\, Damme\
 , 49401\, Stadtzentrum\, Deutschland;X-APPLE-RADIUS=100;X-TITLE=Scheune Le
 iber:geo:52.52190330000001,8.195514799999955
END:VEVENT
BEGIN:VTIMEZONE
TZID:Europe/Berlin
X-LIC-LOCATION:Europe/Berlin
BEGIN:DAYLIGHT
DTSTART:20230326T030000
TZOFFSETFROM:+0100
TZOFFSETTO:+0200
TZNAME:CEST
END:DAYLIGHT
END:VTIMEZONE
END:VCALENDAR