BEGIN:VCALENDAR
VERSION:2.0
PRODID:-//wp-events-plugin.com//7.2.3.1//EN
TZID:Europe/Berlin
X-WR-TIMEZONE:Europe/Berlin
BEGIN:VEVENT
UID:256@kunstundkulturkreis.de
DTSTART;TZID=Europe/Berlin:20250309T113000
DTEND;TZID=Europe/Berlin:20250413T180000
DTSTAMP:20241203T054449Z
URL:https://kunstundkulturkreis.de/events/merry-me-malereien-von-klaus-sie
 vers-und-mario-weinberg/
SUMMARY:merry me - Malereien von Klaus Sievers und Mario Weinberg
DESCRIPTION:merry me - Malereien von Klaus Sievers und Mario Weinberg\nAuss
 tellung: Scheune Leiber\, Damme\nVernissage: Sonntag\, 09. März\nBeginn: 
 11.30 Uhr\n\nAusstellung: Sonntag\, 09. März - Sonntag\, 13. April\nÖffn
 ungszeiten:\nMi. 16.00 bis 18.30 Uhr\,\nSa. und So. 14.00 bis 18.00 Uhr\nE
 intritt: frei\n\nKlaus Sievers\, geb 24.02.1962\, studierte an der Kunstak
 ademie Düsseldorf bei Gotthard Graubner und visuelle Kommunikation an der
  FH Düsseldorf. Seit 2006 entwickelt und koordiniert er Projekte der kult
 urellen Bildung im Auftrag des Kulturamtes Düsseldorf. Er hatte zwischenz
 eitlich einen Lehrauftrag für Zeichnung +Druckgrafik an der Uni Siegen un
 d kuratierte Ausstellungen im Ministerium für Heimat\, Bau\, Kommunales u
 nd Gleichstellung NRW in Düsseldorf. Die alltäglichen Gegenstände von S
 ievers kann man förmlich spüren\, will sie anfassen\, manchmal läuft ei
 nem beim Anblick das Wasser im Munde zusammen. Die Dinge leuchten vor dunk
 lem Grund\, man kann ihre Materialität spüren und manchmal auch einen Ha
 uch von Melancholie.\n\nMario Weinberg\, geb. 31.08.1982 \, studierte an d
 er Kunstakademie Münster bei Cornelius Völker. Als graduierter Meistersc
 hüler war er 2013 und 2019 als Artist in Residence in Shanghai und Taiwan
  unterwegs. Zahlreiche Ausstellungen\, besonders in Asien pflastern seinen
  Weg. Seine Malerei ist ungegenständlich\, verweist aber auf eine unsicht
 bare Welt. Er benutzt unterschiedliche Techniken und lässt sie aufeinande
 rprallen\, bis am Ende dieses Prozesses kraftvolle\, irritierende Bilder e
 ntstehen\, auf denen der Pinselstrich nicht immer das ist\, was er vorgibt
  zu sein.\n\n&nbsp\;\n\n&nbsp\;\n\n&nbsp\;\n\n&nbsp\;\n\n&nbsp\;\n\n&nbsp\
 ;
CATEGORIES:Musik,Theater
LOCATION:Scheune Leiber\, Mühlenstraße 12a\, Damme\, 49401\, Stadtzentrum
 \, Deutschland
GEO:52.52190330000001;8.195514799999955
X-APPLE-STRUCTURED-LOCATION;VALUE=URI;X-ADDRESS=Mühlenstraße 12a\, Damme\
 , 49401\, Stadtzentrum\, Deutschland;X-APPLE-RADIUS=100;X-TITLE=Scheune Le
 iber:geo:52.52190330000001,8.195514799999955
END:VEVENT
BEGIN:VTIMEZONE
TZID:Europe/Berlin
X-LIC-LOCATION:Europe/Berlin
BEGIN:STANDARD
DTSTART:20241027T020000
TZOFFSETFROM:+0200
TZOFFSETTO:+0100
TZNAME:CET
END:STANDARD
BEGIN:DAYLIGHT
DTSTART:20250330T030000
TZOFFSETFROM:+0100
TZOFFSETTO:+0200
TZNAME:CEST
END:DAYLIGHT
END:VTIMEZONE
END:VCALENDAR