BEGIN:VCALENDAR
VERSION:2.0
PRODID:-//wp-events-plugin.com//7.2.3.1//EN
TZID:Europe/Berlin
X-WR-TIMEZONE:Europe/Berlin
BEGIN:VEVENT
UID:186@kunstundkulturkreis.de
DTSTART;TZID=Europe/Berlin:20210829T113000
DTEND;TZID=Europe/Berlin:20210919T180000
DTSTAMP:20210822T074013Z
URL:https://kunstundkulturkreis.de/events/matthias-stoever-retrospektive/
SUMMARY:Matthias Stöver - Retrospektive
DESCRIPTION:Skulpturen &amp\; Bilder\nAusstellung: Scheune Leiber\, Damme\n
 \nVernissage: Sonntag\, 29. Aug.\nBeginn: 11.30 Uhr\nAusstellung: Sonntag\
 , 29. Aug. - Sonntag\, 19. Sept.\n\nÖffnungszeiten:\nMi. 16.00 bis 18.30 
 Uhr\,\nSa. und So. 14.00 bis 18.00 Uhr\n\nEintritt: frei\n\nAnlässlich de
 r Verleihung des Kulturpreises 2020 der Stadt Damme an den ortsansässigen
  Künstler Matthias Stöver\, zeigt der Kunst- und Kultur- Kreis einen Que
 rschnitt seiner künstlerischen Arbeiten aus den letzten 20 Jahren.\n\nMat
 thias Stöver verarbeitet vornehmlich Materialien wie Blei\, Holz\, Siliko
 n\, Eisen und Naturschiefer\, um seine drei immer wiederkehrenden Themen M
 ensch\, Religion und Natur eine gestalterische Form zu geben. Matthias St
 över ist ein Freidenker\, ein künstlerischer Überzeugungstäter\, der 
 über das Leben nachdenkt\, das Leben in seine Einfachheit zerlegt und jed
 em Betrachter die einzelnen Fragmente des Lebens als Denkanstoß vor Augen
  hält.\n\nKritisch hinterfragt der Künstler gesellschaftliche Normen und
  Werte und regt den Betrachter zum Nachdenken an. Matthias Stöver ist fü
 r seinen Wortwitz und Humor bekannt\, der sich nicht zuletzt in den Titeln
  seiner Kunstwerke wiederspiegelt.\n\nDas Motto „Wer Kunst macht\, macht
  keinen Blödsinn“ zieht sich als roter Faden durch sein künstlerisches
  Schaffen.\n\n&nbsp\;\n\n&nbsp\;\n\n&nbsp\;\n\n&nbsp\;\n\n&nbsp\;
CATEGORIES:Ausstellung
LOCATION:Scheune Leiber\, Mühlenstraße 12a\, Damme\, 49401\, Stadtzentrum
 \, Deutschland
GEO:52.52190330000001;8.195514799999955
X-APPLE-STRUCTURED-LOCATION;VALUE=URI;X-ADDRESS=Mühlenstraße 12a\, Damme\
 , 49401\, Stadtzentrum\, Deutschland;X-APPLE-RADIUS=100;X-TITLE=Scheune Le
 iber:geo:52.52190330000001,8.195514799999955
END:VEVENT
BEGIN:VTIMEZONE
TZID:Europe/Berlin
X-LIC-LOCATION:Europe/Berlin
BEGIN:DAYLIGHT
DTSTART:20210328T030000
TZOFFSETFROM:+0100
TZOFFSETTO:+0200
TZNAME:CEST
END:DAYLIGHT
END:VTIMEZONE
END:VCALENDAR