BEGIN:VCALENDAR
VERSION:2.0
PRODID:-//wp-events-plugin.com//7.2.3.1//EN
TZID:Europe/Berlin
X-WR-TIMEZONE:Europe/Berlin
BEGIN:VEVENT
UID:198@kunstundkulturkreis.de
DTSTART;TZID=Europe/Berlin:20220702T070000
DTEND;TZID=Europe/Berlin:20220702T200000
DTSTAMP:20220206T103039Z
URL:https://kunstundkulturkreis.de/events/kunstreise-documenta-fifteen/
SUMMARY:Kunstreise: documenta-fifteen
DESCRIPTION:Kunstfahrt zur Documenta\, Kassel\nAbfahrt:Sa. 02. Juli\, 07.00
  Uhr\, Damme\, Busbahnhof ZOB\nRückkehr: Sa. 02. Juli\, 20.00 Uhr\, Damme
 \, Busbahnhof ZOB\n\nKosten:Nichtmitglieder 55 €\, Mitglieder 49 €\n\n
 Anmeldung\nAnna Dorenkamp: 0 54 91 - 43 10\nGertrud Dunklau: 01 70 - 170 9
 3 35\n\nAnmeldeschluss ist der 04.06.2022\n\nDie documenta 15 wird vom Kü
 nstler*innen-Kollektiv Euangrupa aus Jakarta kuratiert. Das Künstler*inne
 n-Kollektiv hat ihrer documenta fifteen die Werte und Ideen von Lumbung zu
 grunde gelegt.\n\nAls künstlerisches und ökonomisches Modell fußt Lumbu
 ng auf Grundsätzen wie Kollektivität\, gemeinschaftlichem Ressourcenaufb
 au und gerechter Verteilung und verwirklicht sich in allen Bereichen der Z
 usammenarbeit und Ausstellungskonzeption.\n\nIm Preis inbegriffen: Busfahr
 t\, Eintritt und Führung\n\nBankverbindung: (Reisen) Landessparkasse zu O
 ldenburg\nEmpfänger: Kunst+Kultur-Kreis\nVerwendungszweck: Name + Kunstre
 ise\nIBAN DE 72 2805 0100 0071 4689 38 BIC SLZODE22XXX\n\n&nbsp\;
ATTACH;FMTTYPE=image/jpeg:https://kunstundkulturkreis.de/wp-content/upload
 s/2019/06/programm_kukk_2019-2.jpg
CATEGORIES:Kunst-Reisen
LOCATION:Scheune Leiber\, Mühlenstraße 12a\, Damme\, 49401\, Stadtzentrum
 \, Deutschland
GEO:52.52190330000001;8.195514799999955
X-APPLE-STRUCTURED-LOCATION;VALUE=URI;X-ADDRESS=Mühlenstraße 12a\, Damme\
 , 49401\, Stadtzentrum\, Deutschland;X-APPLE-RADIUS=100;X-TITLE=Scheune Le
 iber:geo:52.52190330000001,8.195514799999955
END:VEVENT
BEGIN:VTIMEZONE
TZID:Europe/Berlin
X-LIC-LOCATION:Europe/Berlin
BEGIN:DAYLIGHT
DTSTART:20220327T030000
TZOFFSETFROM:+0100
TZOFFSETTO:+0200
TZNAME:CEST
END:DAYLIGHT
END:VTIMEZONE
END:VCALENDAR