BEGIN:VCALENDAR
VERSION:2.0
PRODID:-//wp-events-plugin.com//7.2.3.1//EN
TZID:Europe/Berlin
X-WR-TIMEZONE:Europe/Berlin
BEGIN:VEVENT
UID:116@kunstundkulturkreis.de
DTSTART;TZID=Europe/Berlin:20170507T113000
DTEND;TZID=Europe/Berlin:20170611T113000
DTSTAMP:20170501T192904Z
URL:https://kunstundkulturkreis.de/events/konturen-der-seele/
SUMMARY:Konturen der Seele
DESCRIPTION:Gezeigt werden Bilder der Stille von Martin Trame.  Monochrome 
 Farbfeldeinschübe und fein nuancierte „Zwischenräume“ führen zu ein
 er fast meditativen Bildrezeption.
ATTACH;FMTTYPE=image/jpeg:https://kunstundkulturkreis.de/wp-content/upload
 s/2016/12/05-07-trame-155.jpg
CATEGORIES:Ausstellung
LOCATION:Scheune Leiber\, Mühlenstraße 12a\, Damme\, 49401\, Stadtzentrum
 \, Deutschland
GEO:52.52190330000001;8.195514799999955
X-APPLE-STRUCTURED-LOCATION;VALUE=URI;X-ADDRESS=Mühlenstraße 12a\, Damme\
 , 49401\, Stadtzentrum\, Deutschland;X-APPLE-RADIUS=100;X-TITLE=Scheune Le
 iber:geo:52.52190330000001,8.195514799999955
END:VEVENT
BEGIN:VTIMEZONE
TZID:Europe/Berlin
X-LIC-LOCATION:Europe/Berlin
BEGIN:DAYLIGHT
DTSTART:20170326T030000
TZOFFSETFROM:+0100
TZOFFSETTO:+0200
TZNAME:CEST
END:DAYLIGHT
END:VTIMEZONE
END:VCALENDAR