BEGIN:VCALENDAR
VERSION:2.0
PRODID:-//wp-events-plugin.com//7.2.3.1//EN
TZID:Europe/Berlin
X-WR-TIMEZONE:Europe/Berlin
BEGIN:VEVENT
UID:77@kunstundkulturkreis.de
DTSTART;TZID=Europe/Berlin:20150911T200000
DTEND;TZID=Europe/Berlin:20150911T200000
DTSTAMP:20150828T064447Z
URL:https://kunstundkulturkreis.de/events/klavierkonzert-tatjana-bucar/
SUMMARY:Klavierkonzert Tatjana Bucar
DESCRIPTION:Tatjana Bucar mit Werken von Johann Sebastian Bach und Ferrucci
 o Busoni\, Domenico Scarlatti\, Ludwig van Beethoven\, Frédéric Chopin\,
  Franz Liszt und von Robert Schumann.
ATTACH;FMTTYPE=image/jpeg:https://kunstundkulturkreis.de/wp-content/upload
 s/2015/07/tatjana_bucar_031.jpg
CATEGORIES:Musik
LOCATION:Scheune Leiber\, Mühlenstraße 12a\, Damme\, 49401\, Stadtzentrum
 \, Deutschland
GEO:52.52190330000001;8.195514799999955
X-APPLE-STRUCTURED-LOCATION;VALUE=URI;X-ADDRESS=Mühlenstraße 12a\, Damme\
 , 49401\, Stadtzentrum\, Deutschland;X-APPLE-RADIUS=100;X-TITLE=Scheune Le
 iber:geo:52.52190330000001,8.195514799999955
END:VEVENT
BEGIN:VTIMEZONE
TZID:Europe/Berlin
X-LIC-LOCATION:Europe/Berlin
BEGIN:DAYLIGHT
DTSTART:20150329T030000
TZOFFSETFROM:+0100
TZOFFSETTO:+0200
TZNAME:CEST
END:DAYLIGHT
END:VTIMEZONE
END:VCALENDAR