BEGIN:VCALENDAR
VERSION:2.0
PRODID:-//wp-events-plugin.com//7.2.3.1//EN
TZID:Europe/Berlin
X-WR-TIMEZONE:Europe/Berlin
BEGIN:VEVENT
UID:179@kunstundkulturkreis.de
DTSTART;TZID=Europe/Berlin:20220529T113000
DTEND;TZID=Europe/Berlin:20220529T180000
DTSTAMP:20220206T102845Z
URL:https://kunstundkulturkreis.de/events/georg-schreiber-fotokunst/
SUMMARY:Ausstellung Jungsun Flach
DESCRIPTION:Malerei und Skulpturen\nAusstellung: Scheune Leiber\, Damme\nVe
 rnissage: Sonntag\, 29. Mai\nBeginn: 11.30 Uhr\n\nAusstellung: Sonntag\, 2
 9. Mai - Sonntag\, 26. Juni\n\nÖffnungszeiten:\nMi. 16.00 bis 18.30 Uhr\,
 \nSa. und So. 14.00 bis 18.00 Uhr\n\nEintritt: frei\n\nAls Goldschmiedin m
 alt und gestaltet Jung Sun Flach seit ihrer Kindheit. In der Malerei wende
 t sie eine besondere Technik an\, die Sie beim Künstler Tobias Magaß aus
  Osnabrück (u.a. als Dozent in Israel und Antwerpen) erlernte.\n\nÜber z
 ehn Jahre widmet sie sich der Plastik – besonders der Gestaltung von Kö
 rpern. Unterschiedliche Materialien und Techniken tragen zur individuellen
  Wirkung bei (u.a.\nHolzbrand). In dieser Ausstellung werden Bilder und Pl
 astiken gezeigt\, deren thematische Zusammenhänge deutlich ablesbar sind.
 \n\nDiese Austellung ist der Gewinnerin des Dammer Kunstpreises 2019 gewid
 met.\n\n&nbsp\;\n\n&nbsp\;\n\n&nbsp\;\n\n&nbsp\;
CATEGORIES:Ausstellung
LOCATION:Scheune Leiber\, Mühlenstraße 12a\, Damme\, 49401\, Stadtzentrum
 \, Deutschland
GEO:52.52190330000001;8.195514799999955
X-APPLE-STRUCTURED-LOCATION;VALUE=URI;X-ADDRESS=Mühlenstraße 12a\, Damme\
 , 49401\, Stadtzentrum\, Deutschland;X-APPLE-RADIUS=100;X-TITLE=Scheune Le
 iber:geo:52.52190330000001,8.195514799999955
END:VEVENT
BEGIN:VTIMEZONE
TZID:Europe/Berlin
X-LIC-LOCATION:Europe/Berlin
BEGIN:DAYLIGHT
DTSTART:20220327T030000
TZOFFSETFROM:+0100
TZOFFSETTO:+0200
TZNAME:CEST
END:DAYLIGHT
END:VTIMEZONE
END:VCALENDAR