BEGIN:VCALENDAR
VERSION:2.0
PRODID:-//wp-events-plugin.com//7.2.3.1//EN
TZID:Europe/Berlin
X-WR-TIMEZONE:Europe/Berlin
BEGIN:VEVENT
UID:164@kunstundkulturkreis.de
DTSTART;TZID=Europe/Berlin:20191213T160000
DTEND;TZID=Europe/Berlin:20191213T160000
DTSTAMP:20191007T101720Z
URL:https://kunstundkulturkreis.de/events/frohe-weihnachten-kleiner-eisbae
 r/
SUMMARY:Frohe Weihnachten\, kleiner Eisbär
DESCRIPTION:Das Wittener Kinder- und Jugendtheater präsentiert eine Weihna
 chtsgeschichte nach Hans de Beer.\nLars und Robbi finden einen Tannenbaum\
 , der vom Schlitten gefallen ist. Sie wollen herausfinden\, was es mit dem
  Tannenbaum auf sich hat und was eigentlich Weihnachten ist. Nanuk\, der k
 leine Schlittenhund\, der in der Menschenstadt lebt\, soll ihnen helfen.
ATTACH;FMTTYPE=image/jpeg:https://kunstundkulturkreis.de/wp-content/upload
 s/2019/07/programm_kukk_2019_2-sig.jpg
CATEGORIES:Kinderprogramm
LOCATION:Gymnasium Damme\, Nordhofe 1\, Damme\, 49401\, Schulzentrum\, Deut
 schland
GEO:52.52383;8.184189999999944
X-APPLE-STRUCTURED-LOCATION;VALUE=URI;X-ADDRESS=Nordhofe 1\, Damme\, 49401\
 , Schulzentrum\, Deutschland;X-APPLE-RADIUS=100;X-TITLE=Gymnasium Damme:ge
 o:52.52383,8.184189999999944
END:VEVENT
BEGIN:VTIMEZONE
TZID:Europe/Berlin
X-LIC-LOCATION:Europe/Berlin
BEGIN:STANDARD
DTSTART:20191027T020000
TZOFFSETFROM:+0200
TZOFFSETTO:+0100
TZNAME:CET
END:STANDARD
END:VTIMEZONE
END:VCALENDAR