BEGIN:VCALENDAR
VERSION:2.0
PRODID:-//wp-events-plugin.com//7.2.3.1//EN
TZID:Europe/Berlin
X-WR-TIMEZONE:Europe/Berlin
BEGIN:VEVENT
UID:263@kunstundkulturkreis.de
DTSTART;TZID=Europe/Berlin:20250817T113000
DTEND;TZID=Europe/Berlin:20250910T180000
DTSTAMP:20250627T034846Z
URL:https://kunstundkulturkreis.de/events/farben-floral-und-formfrei/
SUMMARY:Farben - floral und formfrei
DESCRIPTION:Farben - floral und formfrei\nKunstausstellung Katharina Ihorst
 \n\nAusstellung: Scheune Leiber\, Damme\nVernissage: Sonntag\, 17. Aug.\nB
 eginn: 11.30 Uhr\n\nAusstellung: Sonntag\, 17. Aug. - Mittwoch\, 10. Sept.
 \n\nÖffnungszeiten:\nMi. 16.00 bis 18.30 Uhr\,\nSa. und So. 14.00 bis 18.
 00 Uhr\n\nEintritt: frei\n\nDie Malerei begleitet Katharina Ihorst (Damme)
  schon seit Kindheitstagen\, doch stellte sie sich erst im Jahr 2023 der B
 ewertung Außenstehender - und das mit Erfolg: Katharina Ihorst ist die ak
 tuelle Trägerin des Kunstpreises Damme.\n\nMit Acryl\, Soft- und Ölpaste
 ll schafft sie farbenfrohe Werke\, in denen\nlockere Pinselstriche\, Kratz
 er und Kritzeleien scheinbar miteinander tanzen. Auf einen bestimmten Stil
  möchte sie sich nicht festlegen\, auch wenn ihr künstlerischer Weg sie 
 häufig in den abstrakten Expressionismus führt. Ihr Malprozeß verbindet
  spontane\, intuitive Bewegungen mit bewussten und durchdachten Schritten\
 , wobei die Suche nach dem Zusammenspiel von Farben stets im Mittelpunkt i
 hrer Werke steht.\n\n\n\n
CATEGORIES:Ausstellung
LOCATION:Scheune Leiber\, Mühlenstraße 12a\, Damme\, 49401\, Stadtzentrum
 \, Deutschland
GEO:52.52190330000001;8.195514799999955
X-APPLE-STRUCTURED-LOCATION;VALUE=URI;X-ADDRESS=Mühlenstraße 12a\, Damme\
 , 49401\, Stadtzentrum\, Deutschland;X-APPLE-RADIUS=100;X-TITLE=Scheune Le
 iber:geo:52.52190330000001,8.195514799999955
END:VEVENT
BEGIN:VTIMEZONE
TZID:Europe/Berlin
X-LIC-LOCATION:Europe/Berlin
BEGIN:DAYLIGHT
DTSTART:20250330T030000
TZOFFSETFROM:+0100
TZOFFSETTO:+0200
TZNAME:CEST
END:DAYLIGHT
END:VTIMEZONE
END:VCALENDAR