BEGIN:VCALENDAR
VERSION:2.0
PRODID:-//wp-events-plugin.com//7.2.3.1//EN
TZID:Europe/Berlin
X-WR-TIMEZONE:Europe/Berlin
BEGIN:VEVENT
UID:112@kunstundkulturkreis.de
DTSTART;TZID=Europe/Berlin:20170224T200000
DTEND;TZID=Europe/Berlin:20170224T200000
DTSTAMP:20161230T215236Z
URL:https://kunstundkulturkreis.de/events/eine-frau-schau/
SUMMARY:EINE FRAU SCHAU
DESCRIPTION:Victor Petersens Soloprogramm und Diplomarbeit EINE FRAU SCHAU 
 (Regie: Timo Radünz)\, ausgezeichnet von der Bayerischen Theaterakademie 
 A. Everding\, München\, uraufgeführt am Münchner Prinzregententheater 2
 015.\nSeit dem Frühjahr 2016 ist Victor Petersen als Erstbesetzung für P
 rofessor Abronsius in Roman Polanskis Klassiker „Tanz der Vampire“ auf
  den Bühnen im Theater des Westens\, Berlin\, und im Deutschen Theater\, 
 München\, zu sehen.
ATTACH;FMTTYPE=image/jpeg:https://kunstundkulturkreis.de/wp-content/upload
 s/2016/12/02-24-einefrauschau-victor-petersen.jpg
CATEGORIES:Musik,Theater
LOCATION:Scheune Leiber\, Mühlenstraße 12a\, Damme\, 49401\, Stadtzentrum
 \, Deutschland
GEO:52.52190330000001;8.195514799999955
X-APPLE-STRUCTURED-LOCATION;VALUE=URI;X-ADDRESS=Mühlenstraße 12a\, Damme\
 , 49401\, Stadtzentrum\, Deutschland;X-APPLE-RADIUS=100;X-TITLE=Scheune Le
 iber:geo:52.52190330000001,8.195514799999955
END:VEVENT
BEGIN:VTIMEZONE
TZID:Europe/Berlin
X-LIC-LOCATION:Europe/Berlin
BEGIN:STANDARD
DTSTART:20161030T020000
TZOFFSETFROM:+0200
TZOFFSETTO:+0100
TZNAME:CET
END:STANDARD
END:VTIMEZONE
END:VCALENDAR