BEGIN:VCALENDAR
VERSION:2.0
PRODID:-//wp-events-plugin.com//7.2.3.1//EN
TZID:Europe/Berlin
X-WR-TIMEZONE:Europe/Berlin
BEGIN:VEVENT
UID:138@kunstundkulturkreis.de
DTSTART;TZID=Europe/Berlin:20180912T193000
DTEND;TZID=Europe/Berlin:20180912T193000
DTSTAMP:20180830T195010Z
URL:https://kunstundkulturkreis.de/events/e-hyun-huettermann-franzoesische
 -soiree/
SUMMARY:E-Hyun Hüttermann - Französische Soiree
DESCRIPTION:Bereits zum zweitenmal ist die Pianistin E-Hyun Hüttermann zug
 ast in der Scheune Leiber in Damme. Wir freuen uns auf einen großartigen 
 Abend.
ATTACH;FMTTYPE=image/jpeg:https://kunstundkulturkreis.de/wp-content/upload
 s/2018/08/programm_kukk_2018-2-1.jpg
CATEGORIES:Musik
LOCATION:Scheune Leiber\, Mühlenstraße 12a\, Damme\, 49401\, Stadtzentrum
 \, Deutschland
GEO:52.52190330000001;8.195514799999955
X-APPLE-STRUCTURED-LOCATION;VALUE=URI;X-ADDRESS=Mühlenstraße 12a\, Damme\
 , 49401\, Stadtzentrum\, Deutschland;X-APPLE-RADIUS=100;X-TITLE=Scheune Le
 iber:geo:52.52190330000001,8.195514799999955
END:VEVENT
BEGIN:VTIMEZONE
TZID:Europe/Berlin
X-LIC-LOCATION:Europe/Berlin
BEGIN:DAYLIGHT
DTSTART:20180325T030000
TZOFFSETFROM:+0100
TZOFFSETTO:+0200
TZNAME:CEST
END:DAYLIGHT
END:VTIMEZONE
END:VCALENDAR