BEGIN:VCALENDAR
VERSION:2.0
PRODID:-//wp-events-plugin.com//7.2.3.1//EN
TZID:Europe/Berlin
X-WR-TIMEZONE:Europe/Berlin
BEGIN:VEVENT
UID:224@kunstundkulturkreis.de
DTSTART;TZID=Europe/Berlin:20231028T193000
DTEND;TZID=Europe/Berlin:20231028T213000
DTSTAMP:20230722T062701Z
URL:https://kunstundkulturkreis.de/events/die-neuen-zeitalter-ein-bertolt-
 brecht-abend-mit-gitarre/
SUMMARY:„Die neuen Zeitalter“ - ein Bertolt-Brecht-Abend  mit Gitarre
DESCRIPTION:„Die neuen Zeitalter“ - ein Bertolt-Brecht-Abend mit Gitarr
 e\nAlix Dudel (Gesang / Sprache) und Sebastian Albert (Gitarre)\n\nLesung:
  Rathaus\, Damme\nTermin: Samstag\, 28. Oktober\nBeginn: 19.30 Uhr\nEinlas
 s: 18.30 Uhr\nEintritt: Mitglieder 10 €\, Nichtmitglieder 15 €\nVorver
 kauf: Buchhandlung im Alten Rathaus und Öffentliche Bücherei St. Viktor 
 ab dem 25. September\n\nBertolt Brecht war ein Genie. Seine Gnadenlosigkei
 t\, seine Klarheit\, seine Unverfrorenheit\, sein Anspruch\, seine Wortwah
 l\, seine Treffsicherheit.\n\nAlix Dudel\, die Diseuse mit dem unverwechse
 lbaren Timbre\, hat gewählt. Ihre Stimme und Ausdruckskraft lassen seine 
 Bilder lebendig werden. Die Lieder stammen von Hanns Eisler\, Paul Dessau 
 und Kurt Weill. Sebastian Albert hat diese Lieder für klassische Gitarre 
 eingerichtet.\n\nEin Bertolt-Brecht-Abend mit Vorfilm\nKompositionen von H
 anns Eisler\, Paul Dessau und Kurt Weill\n2 x 45 Minuten\n\n&nbsp\;\n\n&nb
 sp\;\n\n&nbsp\;
CATEGORIES:Musik
LOCATION:Rathaus Damme\, Mühlenstraße 18\, 49401 Damme\, Deutschland
GEO:52.52244;8.195609999999988
X-APPLE-STRUCTURED-LOCATION;VALUE=URI;X-ADDRESS=Mühlenstraße 18\, 49401 D
 amme\, Deutschland;X-APPLE-RADIUS=100;X-TITLE=Rathaus Damme:geo:52.52244,8
 .195609999999988
END:VEVENT
BEGIN:VTIMEZONE
TZID:Europe/Berlin
X-LIC-LOCATION:Europe/Berlin
BEGIN:DAYLIGHT
DTSTART:20230326T030000
TZOFFSETFROM:+0100
TZOFFSETTO:+0200
TZNAME:CEST
END:DAYLIGHT
END:VTIMEZONE
END:VCALENDAR