BEGIN:VCALENDAR
VERSION:2.0
PRODID:-//wp-events-plugin.com//7.2.3.1//EN
TZID:Europe/Berlin
X-WR-TIMEZONE:Europe/Berlin
BEGIN:VEVENT
UID:137@kunstundkulturkreis.de
DTSTART;TZID=Europe/Berlin:20180526T193000
DTEND;TZID=Europe/Berlin:20180526T193000
DTSTAMP:20180502T130753Z
URL:https://kunstundkulturkreis.de/events/die-gala-der-musicals/
SUMMARY:Die Gala der Musicals
DESCRIPTION:mit Anja Wendzel - Victor Petersen - Katrin Merkl - Christoph A
 pfelbeck\nVier Musicaldarsteller/Innen\, die nicht nur zu den Beliebtesten
  und Besten ihres Fachs zählen\, nehmen ihr Publikum mit auf die Reise in
  die Welt des Musicals. Das ist das Erfolgskonzept von "Die GALA der MUSIC
 ALS“\, welche die österreichische Musicaldarstellerin Anja Wendzel erst
 mals 2015  auf die Bühne brachte. Nun kann man "Die GALA der MUSICALS“
  erstmals auch in Norddeutschland erleben. Neben Anja Wendzel singen Victo
 r Petersen\, Katrin Merkl und Christoph Apfelbeck einige der schönsten Mu
 sicalsongs und werden dabei von einer Liveband begleitet – die musikalis
 che Leitung liegt in den routinierten Händen von Leif Klinkhardt\, Dirige
 nt bei Stage Entertainments ´TANZ DER VAMPIRE´.\n\n&nbsp\;\n\nTermin: Sa
 mstag\, 26. Mai\nBeginn: 19.30 Uhr bei freier Platzwahl\nEinlass: 18.30 Uh
 r\nVeranstaltungsort: Aula des Gymnasiums Damme\, Nordhofe 1\, 49401 Damme
 \nEintritt 35 Euro / 23 Euro für Schüler\, Studenten\, Mitglieder des Ku
 nst+Kultur-Kreis Damme e.V.\nVorverkauf: Buchhandlung im Alten Rathaus und
  Piano Hartz\, Bahnhofstr. 28\, Lohne\nOnline bei www.reservix.de\n\n\nmeh
 r in der Ankündigung &gt\;&gt\;\n\n&nbsp\;\n\n&nbsp\;\n\n&nbsp\;
ATTACH;FMTTYPE=image/jpeg:https://kunstundkulturkreis.de/wp-content/upload
 s/2017/11/programm_kukk_2018_01_web.jpg
CATEGORIES:Musik
LOCATION:Gymnasium Damme\, Nordhofe 1\, Damme\, 49401\, Schulzentrum\, Deut
 schland
GEO:52.52383;8.184189999999944
X-APPLE-STRUCTURED-LOCATION;VALUE=URI;X-ADDRESS=Nordhofe 1\, Damme\, 49401\
 , Schulzentrum\, Deutschland;X-APPLE-RADIUS=100;X-TITLE=Gymnasium Damme:ge
 o:52.52383,8.184189999999944
END:VEVENT
BEGIN:VTIMEZONE
TZID:Europe/Berlin
X-LIC-LOCATION:Europe/Berlin
BEGIN:DAYLIGHT
DTSTART:20180325T030000
TZOFFSETFROM:+0100
TZOFFSETTO:+0200
TZNAME:CEST
END:DAYLIGHT
END:VTIMEZONE
END:VCALENDAR