BEGIN:VCALENDAR
VERSION:2.0
PRODID:-//wp-events-plugin.com//7.2.3.1//EN
TZID:Europe/Berlin
X-WR-TIMEZONE:Europe/Berlin
BEGIN:VEVENT
UID:249@kunstundkulturkreis.de
DTSTART;TZID=Europe/Berlin:20241101T200000
DTEND;TZID=Europe/Berlin:20241101T223000
DTSTAMP:20240606T051321Z
URL:https://kunstundkulturkreis.de/events/buchvorstellung-gemischtes-doppe
 l-2/
SUMMARY:Bayrisch-Preußischer Abend mit Musik
DESCRIPTION:Bayrisch-Preußischer Abend mit Musik\nMit Musik und Humor - Dr
 ei Unikate zu Gast in Damme\n\nKonzert: Gaststätte Butke-Bollmann\, Groß
 e Str. 42\, Damme\nTermin: Freitag\, 01. Nov.\nEinlass: 19.00 Uhr\nBeginn:
  20.00 Uhr\nEintritt: Mitglieder 14 €\, Nichtmitglieder 18 €\nVorverka
 uf: Buchhandlung im Alten Rathaus ab dem 16. September\n\nKürzlich entsta
 nd durch einen niedersächsischen Kulturfreund die Idee\, den Berliner Les
 ebühnenstar Ahne gemeinsam mit der bayerischen Mundartkomponistin und Sä
 ngerin Uli Mauk sowie dem Münchner Schauspieler und Komiker Moses Wolff e
 inzuladen. Ahne\, berühmt für seine „Zwiegespräche mit Gott“\, rief
  sofort begeistert: „Juti!“. Die hintergründige und feinsinnigen Musi
 kerin Uli Mauk sang erfreut ins\nTelefon: „Da bin i gern dabei!“\, wä
 hrend das wortgewandte Stimmwunder Moses Wolff geistreich bemerkte: „War
 um ned?“.\n\nSo findet am 01. November 2024 ein Abend in Damme mit bald 
 preussischem\, bald bajuwarischem Dialekt statt. Aber keine Bange\, auch M
 enschen\, die dieser Sprachen nicht so mächtig sind\, werden so gut wie a
 lles verstehen  und sich königlich amüsieren. Soviel steht fest.\n\n&n
 bsp\;\n\n&nbsp\;\n\n&nbsp\;
CATEGORIES:Kabarett,Musik
LOCATION:Gaststätte Butke Bollmann\, Große Str. 42\, Damme\, 49401\, Deut
 schland
GEO:52.521327;8.196742
X-APPLE-STRUCTURED-LOCATION;VALUE=URI;X-ADDRESS=Große Str. 42\, Damme\, 49
 401\, Deutschland;X-APPLE-RADIUS=100;X-TITLE=Gaststätte Butke Bollmann:ge
 o:52.521327,8.196742
END:VEVENT
BEGIN:VTIMEZONE
TZID:Europe/Berlin
X-LIC-LOCATION:Europe/Berlin
BEGIN:STANDARD
DTSTART:20241027T020000
TZOFFSETFROM:+0200
TZOFFSETTO:+0100
TZNAME:CET
END:STANDARD
END:VTIMEZONE
END:VCALENDAR