BEGIN:VCALENDAR
VERSION:2.0
PRODID:-//wp-events-plugin.com//7.2.3.1//EN
TZID:Europe/Berlin
X-WR-TIMEZONE:Europe/Berlin
BEGIN:VEVENT
UID:12@kunstundkulturkreis.de
DTSTART;TZID=Europe/Berlin:20130930T150000
DTEND;TZID=Europe/Berlin:20130930T150000
DTSTAMP:20130924T190237Z
URL:https://kunstundkulturkreis.de/events/bilderbuchkino-fur-kinder-1-vors
 tellung/
SUMMARY:Bilderbuchkino (1. Vorst.) AUSVERKAUFT
DESCRIPTION:„Lieselotte sucht einen Schatz“ Bilderbuchkino für Kinderg
 artenkinder\nEines Tages entdeckt Lieselotte ein geheimnisvolles Papier in
  ihrer Posttasche. Das kann nur eine Schatzkarte sein ...
ATTACH;FMTTYPE=image/jpeg:https://kunstundkulturkreis.de/wp-content/upload
 s/2013/05/Bilderbuchkino_2012-100px.jpg
CATEGORIES:Kinderprogramm
LOCATION:Öffentliche Bücherei St. Viktor\, Gartenstraße 6\, Damme\, 4940
 1\, Stadtzentrum\, Deutschland
GEO:52.5214043;8.198311200000035
X-APPLE-STRUCTURED-LOCATION;VALUE=URI;X-ADDRESS=Gartenstraße 6\, Damme\, 4
 9401\, Stadtzentrum\, Deutschland;X-APPLE-RADIUS=100;X-TITLE=Öffentliche 
 Bücherei St. Viktor:geo:52.5214043,8.198311200000035
END:VEVENT
BEGIN:VTIMEZONE
TZID:Europe/Berlin
X-LIC-LOCATION:Europe/Berlin
BEGIN:DAYLIGHT
DTSTART:20130331T030000
TZOFFSETFROM:+0100
TZOFFSETTO:+0200
TZNAME:CEST
END:DAYLIGHT
END:VTIMEZONE
END:VCALENDAR