BEGIN:VCALENDAR
VERSION:2.0
PRODID:-//wp-events-plugin.com//7.2.3.1//EN
TZID:Europe/Berlin
X-WR-TIMEZONE:Europe/Berlin
BEGIN:VEVENT
UID:9@kunstundkulturkreis.de
DTSTART;TZID=Europe/Berlin:20130824T070000
DTEND;TZID=Europe/Berlin:20130825T210000
DTSTAMP:20130730T093952Z
URL:https://kunstundkulturkreis.de/events/2-tage-amsterdam-am-wasser-entla
 ng/
SUMMARY:2 Tage Amsterdam – Am Wasser entlang
DESCRIPTION:Am Samstag bildet eine geführte Besichtigung des Stedelijk Mus
 eums den Schwerpunkt des Programms. Die sonntägliche Tagestour führt am 
 Wasser entlang. Gezeigt werden unter kompetenter Führung die Umnutzung vo
 n Gebäuden und Flächen ehemaliger Hafengebiete ebenso wie ...
ATTACH;FMTTYPE=image/jpeg:https://kunstundkulturkreis.de/wp-content/upload
 s/2013/06/2.-Stedelijk-Museum-facade-as-seen-from-the-Van-Gogh-Museum.-Pho
 to-John-Lewis-Marshall._original-e1371066711313.jpg
CATEGORIES:Architektur &amp; Design,Kunst-Reisen
LOCATION:Scheune Leiber\, Mühlenstraße 12a\, Damme\, 49401\, Stadtzentrum
 \, Deutschland
GEO:52.52190330000001;8.195514799999955
X-APPLE-STRUCTURED-LOCATION;VALUE=URI;X-ADDRESS=Mühlenstraße 12a\, Damme\
 , 49401\, Stadtzentrum\, Deutschland;X-APPLE-RADIUS=100;X-TITLE=Scheune Le
 iber:geo:52.52190330000001,8.195514799999955
END:VEVENT
BEGIN:VTIMEZONE
TZID:Europe/Berlin
X-LIC-LOCATION:Europe/Berlin
BEGIN:DAYLIGHT
DTSTART:20130331T030000
TZOFFSETFROM:+0100
TZOFFSETTO:+0200
TZNAME:CEST
END:DAYLIGHT
END:VTIMEZONE
END:VCALENDAR