BEGIN:VCALENDAR
VERSION:2.0
PRODID:-//wp-events-plugin.com//7.2.3.1//EN
TZID:Europe/Berlin
X-WR-TIMEZONE:Europe/Berlin
BEGIN:VEVENT
UID:152@kunstundkulturkreis.de
DTSTART;TZID=Europe/Berlin:20190308T200000
DTEND;TZID=Europe/Berlin:20190308T200000
DTSTAMP:20190113T144820Z
URL:http://kunstundkulturkreis.de/events/treffen-sich-zwei-traeume-beide-p
 latzen/
SUMMARY:Treffen sich zwei Träume. Beide platzen.
DESCRIPTION:Humor ist\, wenn man trotzdem stirbt! – Kuckuck! Lesungen vom
  menschlichen Partyhütchen Patrick Salmen verkörpern Lebensbejahung pur.
ATTACH;FMTTYPE=image/jpeg:http://kunstundkulturkreis.de/wp-content/uploads
 /2018/12/programm_kukk_2019-1.jpg
CATEGORIES:Kabarett
LOCATION:Scheune Leiber\, Mühlenstraße 12a\, Damme\, 49401\, Stadtzentrum
 \, Deutschland
GEO:52.52190330000001;8.195514799999955
X-APPLE-STRUCTURED-LOCATION;VALUE=URI;X-ADDRESS=Mühlenstraße 12a\, Damme\
 , 49401\, Stadtzentrum\, Deutschland;X-APPLE-RADIUS=100;X-TITLE=Scheune Le
 iber:geo:52.52190330000001,8.195514799999955
END:VEVENT
BEGIN:VTIMEZONE
TZID:Europe/Berlin
X-LIC-LOCATION:Europe/Berlin
BEGIN:STANDARD
DTSTART:20181028T020000
TZOFFSETFROM:+0200
TZOFFSETTO:+0100
TZNAME:CET
END:STANDARD
END:VTIMEZONE
END:VCALENDAR