BEGIN:VCALENDAR
VERSION:2.0
PRODID:-//wp-events-plugin.com//7.2.3.1//EN
TZID:Europe/Berlin
X-WR-TIMEZONE:Europe/Berlin
BEGIN:VEVENT
UID:262@kunstundkulturkreis.de
DTSTART;TZID=Europe/Berlin:20250518T113000
DTEND;TZID=Europe/Berlin:20250629T180000
DTSTAMP:20250627T034837Z
URL:http://kunstundkulturkreis.de/events/ruhe-sturm/
SUMMARY:Ruhe & Sturm
DESCRIPTION:Ruhe &amp\; Sturm\nKunstausstellung mit Kwang-Sik Im und Mirsad
  Herenda\n\nAusstellung: Scheune Leiber\, Damme\nVernissage: Sonntag\, 18.
  Mai\nBeginn: 11.30 Uhr\n\nAusstellung: Sonntag\, 18. Mai - Sonntag\, 29. 
 Juni\nÖffnungszeiten: Mi. 16.00 bis 18.30 Uhr\, Sa. und So. 14.00 bis 18.
 00 Uhr\nEintritt: frei\n\nKwang-Sik Im \, geboren 1968 in Korea\, Kunststu
 dium an der Universität Yeungnam in Korea. Schon während des Studium an 
 der Kunstakademie Münster erhielt er den 1. Preis der Crananch- Stiftung 
 der Lutherstadt Witten\, weitere Stationen: DAAD - Stipendium der Kunstaka
 demie Münster und dann 2004 Meisterschüler. Seit 2003 viele Ausstellunge
 n\, darunter gleich 6x „Die Grosse Kunstausstellung NRW“ in Düsseldor
 f und die NordArt 2011 in Büdelsdorf. „Auf diesem Planeten wandern nich
 t nur Menschen. Und oft sind die Wege der Anderen die gleichen wie unsere 
 eigenen. Auch wenn alle Leben ganz unterschiedlich und vielfältig sind\, 
 gibt es in denen eine Gemeinsamkeit. Wenn unsere Blicke sich treffen\, erk
 ennen wir uns vielleicht endlich. Ich möchte die Menschen nur bis dahin b
 egleiten.“ so Kwang-Sik Im\,\n\nBäume begleiten uns seit Urzeiten mit e
 iner Art magischer Beharrlichkeit. Weltweit werden sie als heilig und als 
 Lebensspender verehrt. Und nun erleben wir das Sterben der Bäume in der m
 enschengemachten ökologischen Katastrophe. Doch Mirsad Herenda möchte ke
 ine Debatte anstoßen\, ob Manipulation und Zerstörung der Natur noch auf
 zuhalten sind. Sein künstlerisches Credo ist weiter gefasst. Das umreißt
  sein Satz: „Ich versuche unsere Zeit zu entschlüsseln“. Es gehe ihm 
 um das Fundament\, auf dem wir stehen. Eine andere Formulierung von ihm la
 utet: „Kunst entsteht\, wo man sich selbst befreit“. Mirsad Herenda ha
 t sein Studium der Bildhauerei in Bosnien-Herzegowina und der Hochschule f
 ür Künste in Bremen mit dem Diplom 2011 abgeschlossen. Seit 1995 hat er 
 zahlreiche Ausstellungen im In- und Ausland bestritten.\n\n\n&nbsp\;
CATEGORIES:Ausstellung
LOCATION:Scheune Leiber\, Mühlenstraße 12a\, Damme\, 49401\, Stadtzentrum
 \, Deutschland
GEO:52.52190330000001;8.195514799999955
X-APPLE-STRUCTURED-LOCATION;VALUE=URI;X-ADDRESS=Mühlenstraße 12a\, Damme\
 , 49401\, Stadtzentrum\, Deutschland;X-APPLE-RADIUS=100;X-TITLE=Scheune Le
 iber:geo:52.52190330000001,8.195514799999955
END:VEVENT
BEGIN:VTIMEZONE
TZID:Europe/Berlin
X-LIC-LOCATION:Europe/Berlin
BEGIN:DAYLIGHT
DTSTART:20250330T030000
TZOFFSETFROM:+0100
TZOFFSETTO:+0200
TZNAME:CEST
END:DAYLIGHT
END:VTIMEZONE
END:VCALENDAR