BEGIN:VCALENDAR
VERSION:2.0
PRODID:-//wp-events-plugin.com//7.2.3.1//EN
TZID:Europe/Berlin
X-WR-TIMEZONE:Europe/Berlin
BEGIN:VEVENT
UID:229@kunstundkulturkreis.de
DTSTART;TZID=Europe/Berlin:20240119T193000
DTEND;TZID=Europe/Berlin:20240119T213000
DTSTAMP:20231205T171523Z
URL:http://kunstundkulturkreis.de/events/matthias-stoever-liest-charles-bu
 kowski/
SUMMARY:Matthias Stöver liest Charles Bukowski
DESCRIPTION:Matthias Stöver liest Charles Bukowski\nZum 30. Todestag: Stor
 ies of a Dirty Old Man\n\nLesung: ArtHaus\, Große Strasse 22a\, Damme\nTe
 rmin: Freitag\, 19. Januar\nBeginn: 19.30 Uhr\nEinlass: 19.00 Uhr\nEintrit
 t: frei\n\nZum 30. Todestag liest Matthias Stöver (Ex-Dachdecker\, DJ und
  Künstler) – das erste mal öffentlich – aus dem Lebenswerk von Charl
 es Bukowski.\n\nCharles Bukowski wurde 1920 in Andernach geboren und lebte
  seit dem zweiten Lebensjahr in Los Angeles. Neben Jobs als Tankwart\, Sch
 lachthof- und Hafenarbeiter arbeitete er 15 Jahre als Briefträger und Pos
 tsortierer. Viele Jahre lang lebte er wenig sesshaft\, hatte zahlreiche Jo
 bs und saß für kurze Zeit wegen Trunkenheit im Gefängnis und sogar in d
 er Psychiatrie. Er starb am 09.03.1994 in San Pedro.\n\n&nbsp\;\n\n&nbsp\;
 \n\n&nbsp\;\n\n&nbsp\;
CATEGORIES:Literatur
LOCATION:ArtHaus\, Bahnhofstraße 15\, Damme\, Niedersachsen\, 49401\, Deut
 schland
GEO:52.520067;8.191942
X-APPLE-STRUCTURED-LOCATION;VALUE=URI;X-ADDRESS=Bahnhofstraße 15\, Damme\,
  Niedersachsen\, 49401\, Deutschland;X-APPLE-RADIUS=100;X-TITLE=ArtHaus:ge
 o:52.520067,8.191942
END:VEVENT
BEGIN:VTIMEZONE
TZID:Europe/Berlin
X-LIC-LOCATION:Europe/Berlin
BEGIN:STANDARD
DTSTART:20231029T020000
TZOFFSETFROM:+0200
TZOFFSETTO:+0100
TZNAME:CET
END:STANDARD
END:VTIMEZONE
END:VCALENDAR