BEGIN:VCALENDAR
VERSION:2.0
PRODID:-//wp-events-plugin.com//7.2.3.1//EN
TZID:Europe/Berlin
X-WR-TIMEZONE:Europe/Berlin
BEGIN:VEVENT
UID:205@kunstundkulturkreis.de
DTSTART;TZID=Europe/Berlin:20221125T200000
DTEND;TZID=Europe/Berlin:20221125T223000
DTSTAMP:20220907T050233Z
URL:http://kunstundkulturkreis.de/events/heinz-erhardt-abend/
SUMMARY:Heinz-Erhardt-Abend
DESCRIPTION:Heinz-Erhardt-Abend\nAndreas Neumann präsentiert seinen Heinz-
 Erhardt-Abend\n\nComedy: Gaststätte Butke-Bollmann\, Große Str. 42\, Dam
 me\nTermin: Freitag\, 25. November\nEinlass: 19.00 Uhr\nBeginn: 20.00 Uhr\
 nEintritt: Mitglieder 20 €\, Nichtmitglieder 24 €\nVorverkauf: Buchhan
 dlung im Alten Rathaus\, ab dem 01. Oktober\n\nIn einer einzigartig gelung
 enen Weise lässt der Parodist Andreas Neumann den beliebten Komiker und H
 umoristen wieder auferstehen\, und er macht das derart gekonnt\, dass die 
 Tochter von Heinz Erhardt\, Grit Berthold\, anerkennend bemerkte:\,\, Als 
 ich Andreas Neumann hörte\, meinte ich\, mein Vater lebt wieder.“\n\nOb
 wohl Heinz Erhardt jede Menge zeitloser Sketche\, Geschichten und Gedichte
  hinterlassen hat\, mit denen sich mehrere Abende füllen ließen\, wird A
 ndreas Neumann auf der Bühne auch andere prominente Gäste präsentieren\
 , denn als professioneller Parodist sollte man mehr als eine Stimme zur Ve
 rfügung haben. Für den Parodisten besonders ergiebige Persönlichkeiten 
 wie Heinz Rühmann\, Hans Moser\, Theo Lingen und Jürgen von Mangers Tegt
 meier\, leiht Neumann seine variationsreiche Stimme\, ebenso kommen Marcel
  Reich-Ranicki\, Inge Meysel\, Ekel Alfred und andere zu Wort\, meist in e
 iner Geschwindigkeit\, das man meinen möchte\, es stünden mehrere Person
 en auf der Bühne. Einer für ALLE- alle auf einmal\, so das Motto des Par
 odisten.\n\nBesonders bemerkenswert ist das Neumann zu den bekannten Klass
 ikern auch neue Texte für sein Programm geschrieben hat\, so erlebt das P
 ublikum auch stets Neues mit alten Bekannten! Das Lachen ist damit so gut 
 wie garantiert!\n
CATEGORIES:Kabarett
LOCATION:Gaststätte Butke Bollmann\, Große Str. 42\, Damme\, 49401\, Deut
 schland
GEO:52.521327;8.196742
X-APPLE-STRUCTURED-LOCATION;VALUE=URI;X-ADDRESS=Große Str. 42\, Damme\, 49
 401\, Deutschland;X-APPLE-RADIUS=100;X-TITLE=Gaststätte Butke Bollmann:ge
 o:52.521327,8.196742
END:VEVENT
BEGIN:VTIMEZONE
TZID:Europe/Berlin
X-LIC-LOCATION:Europe/Berlin
BEGIN:STANDARD
DTSTART:20221030T020000
TZOFFSETFROM:+0200
TZOFFSETTO:+0100
TZNAME:CET
END:STANDARD
END:VTIMEZONE
END:VCALENDAR