BEGIN:VCALENDAR
VERSION:2.0
PRODID:-//wp-events-plugin.com//7.2.3.1//EN
TZID:Europe/Berlin
X-WR-TIMEZONE:Europe/Berlin
BEGIN:VEVENT
UID:221@kunstundkulturkreis.de
DTSTART;TZID=Europe/Berlin:20230901T180000
DTEND;TZID=Europe/Berlin:20230901T200000
DTSTAMP:20230722T062049Z
URL:http://kunstundkulturkreis.de/events/einweihung-kukk-raeumlichkeiten/
SUMMARY:Einweihung KuKK-Räumlichkeiten
DESCRIPTION:Einweihung KuKK-Räumlichkeiten\nEröffnung : KuKK-Raum\, Groß
 e Strasse 22a\, Damme\nTermin: Freitag\, 01. Sept.\nBeginn: 18.00 Uhr\nEin
 tritt: frei\n\nMit einem gemütichen Grillabend möchten wir unsere neuen 
 Räumlichkeiten und deren Möglichkeiten vorstellen. Seid dabei und feiert
  bei kühlen Getränken und entspannter Musik mit uns!\n\nWir wollen: die 
 Artothek noch bekannter machen\, Ideen Sammeln\, vielleicht Mitstreiter ge
 winnen\, Spaß haben\, tanzen\, schnacken und zuhören ...\n\n&nbsp\;\n\n&
 nbsp\;
CATEGORIES:Musik
LOCATION:ArtHaus\, Bahnhofstraße 15\, Damme\, Niedersachsen\, 49401\, Deut
 schland
GEO:52.520067;8.191942
X-APPLE-STRUCTURED-LOCATION;VALUE=URI;X-ADDRESS=Bahnhofstraße 15\, Damme\,
  Niedersachsen\, 49401\, Deutschland;X-APPLE-RADIUS=100;X-TITLE=ArtHaus:ge
 o:52.520067,8.191942
END:VEVENT
BEGIN:VTIMEZONE
TZID:Europe/Berlin
X-LIC-LOCATION:Europe/Berlin
BEGIN:DAYLIGHT
DTSTART:20230326T030000
TZOFFSETFROM:+0100
TZOFFSETTO:+0200
TZNAME:CEST
END:DAYLIGHT
END:VTIMEZONE
END:VCALENDAR