BEGIN:VCALENDAR
VERSION:2.0
PRODID:-//wp-events-plugin.com//7.2.3.1//EN
TZID:Europe/Berlin
X-WR-TIMEZONE:Europe/Berlin
BEGIN:VEVENT
UID:248@kunstundkulturkreis.de
DTSTART;TZID=Europe/Berlin:20241028T190000
DTEND;TZID=Europe/Berlin:20241028T213000
DTSTAMP:20240606T051325Z
URL:http://kunstundkulturkreis.de/events/buchvorstellung-gemischtes-doppel
 /
SUMMARY:Buchvorstellung - Gemischtes Doppel
DESCRIPTION:Buchvorstellung - Gemischtes Doppel\nHerbstlese mit Annemarie S
 toltenberg und Rainer Moritz\n\nBuchvorstellung: Gaststätte Butke-Bollman
 n\, Große Str. 42\, Damme\nTermin: Montag\, 28. Okt.\nEinlass: 18.00 Uhr\
 nBeginn: 19.00 Uhr\nEintritt: Mitglieder 5 €\, Nichtmitglieder 10 €\nV
 orverkauf: Buchhandlung im Alten Rathaus und Öffentliche Bücherei St. Vi
 ktor ab dem 15. September\n\nEin silbernes Jubiläum können die beiden sc
 hon feiern - seit etlichen Jahren gehen Annemarie Stoltenberg und Rainer M
 oritz zusammen mit Buchvorstellungen auf Tour. Sie präsentieren mit Witz\
 , Charme und Sachverstand lesenswerte Neuerscheinungen der Saison. Manchma
 l sind sie sich in ihrer Begeisterung einig\, manchmal gehen ihre Geschmä
 cker getrennte Wege\, aber immer geht es ihnen darum\, aus den Bücherberg
 en just die Titel herauszufischen\, die besonders klug\, unterhaltsam\, tr
 östlich\, überraschend und von hohem literarischen Wert sind. Am 28. Okt
 ober kommen die beiden live nach Damme.\n\n&nbsp\;\n\n&nbsp\;\n\n&nbsp\;
CATEGORIES:Literatur
LOCATION:Gaststätte Butke Bollmann\, Große Str. 42\, Damme\, 49401\, Deut
 schland
GEO:52.521327;8.196742
X-APPLE-STRUCTURED-LOCATION;VALUE=URI;X-ADDRESS=Große Str. 42\, Damme\, 49
 401\, Deutschland;X-APPLE-RADIUS=100;X-TITLE=Gaststätte Butke Bollmann:ge
 o:52.521327,8.196742
END:VEVENT
BEGIN:VTIMEZONE
TZID:Europe/Berlin
X-LIC-LOCATION:Europe/Berlin
BEGIN:STANDARD
DTSTART:20241027T020000
TZOFFSETFROM:+0200
TZOFFSETTO:+0100
TZNAME:CET
END:STANDARD
END:VTIMEZONE
END:VCALENDAR