BEGIN:VCALENDAR
VERSION:2.0
PRODID:-//wp-events-plugin.com//7.2.3.1//EN
TZID:Europe/Berlin
X-WR-TIMEZONE:Europe/Berlin
BEGIN:VEVENT
UID:232@kunstundkulturkreis.de
DTSTART;TZID=Europe/Berlin:20240225T150000
DTEND;TZID=Europe/Berlin:20240225T163000
DTSTAMP:20231205T172423Z
URL:http://kunstundkulturkreis.de/events/allerhand/
SUMMARY:Allerhand
DESCRIPTION:Allerhand\nAbenteuer für 10 Finger\n\nKindertheater: Scheune L
 eiber\, Damme\nTermin: Sonntag\, 25. Febr.\nEinlass: 14.40 Uhr\nBeginn: 15
 .00 Uhr\nVorverkauf: 6 Euro\nVorverkauf: Buchhandlung im Alten Rathaus ab 
 dem 15. Januar\n\nAuf der Suche nach seinem Hut findet der Theaterdirektor
  einen Zauberstab. Plötzlich werden Gegenstände lebendig und seine Händ
 e verwandeln sich in zwei quietschvergnügte Spaßmacher. Es wird getanzt\
 , gelacht und wunderbar Musik gemacht. Das passt sehr gut \, denn heute gi
 bt es was zu feiern.\n\nHendrikje Winter beweist in diesem Stück wieder e
 inmal\, was für eine hochkarätige Figurenspielerin sie ist. Mit nur weni
 gen Requisiten verwandelt sie ihre Hände in Puppen\, fesselt große und k
 leine Zuschauer mit ihrem Spiel und lässt selbst Erwachsene staunen.\n\nD
 ieses Theaterstück ist für Zuschauer ab 4 Jahren geeignet\n\n&nbsp\;\n\n
 &nbsp\;\n\n&nbsp\;\n\n.\n\n&nbsp\;\n\n&nbsp\;\n\n&nbsp\;
CATEGORIES:Theater
LOCATION:Scheune Leiber\, Mühlenstraße 12a\, Damme\, 49401\, Stadtzentrum
 \, Deutschland
GEO:52.52190330000001;8.195514799999955
X-APPLE-STRUCTURED-LOCATION;VALUE=URI;X-ADDRESS=Mühlenstraße 12a\, Damme\
 , 49401\, Stadtzentrum\, Deutschland;X-APPLE-RADIUS=100;X-TITLE=Scheune Le
 iber:geo:52.52190330000001,8.195514799999955
END:VEVENT
BEGIN:VTIMEZONE
TZID:Europe/Berlin
X-LIC-LOCATION:Europe/Berlin
BEGIN:STANDARD
DTSTART:20231029T020000
TZOFFSETFROM:+0200
TZOFFSETTO:+0100
TZNAME:CET
END:STANDARD
END:VTIMEZONE
END:VCALENDAR